BEGIN:VCALENDAR
VERSION:2.0
PRODID:SchoolNow
CALSCALE:GREGORIAN
BEGIN:VEVENT
UID:d4f7563a-1a53-11ed-8421-02eefcd960fd
DTSTAMP:20221011T173257Z
SUMMARY:CDD Board Meeting - Oct. 2022
LOCATION:Meadow Pointe IV Club House\, 3902 Meadow Pointe Blvd. Wesley Chap
 el \, FL 33543 United States
URL;VALUE=URI:https://www.meadowpointe4cdd.org/calendar/3279389/cdd-board-m
 eeting-oct-2022
DTSTART:20221012T140000Z
DTEND:20221012T150000Z
ATTACH;FILENAME=2022-10-12 - MP IV - Revised Website Agenda.pdf;FMTTYPE=app
 lication/pdf:https://campussuite-storage.s3.amazonaws.com/prod/1558884/085
 23f8c-ea9a-11e9-86cb-0a31933f87ea/2490248/b7a9036a-498a-11ed-b700-0ac3c99b
 3d55/file/2022-10-12 - MP IV - Revised Website Agenda.pdf
END:VEVENT
END:VCALENDAR
