BEGIN:VCALENDAR
VERSION:2.0
PRODID:SchoolNow
CALSCALE:GREGORIAN
BEGIN:VEVENT
UID:70a8c534-3842-11ee-8fb4-0a58a9feac02
DTSTAMP:20231208T131544Z
SUMMARY:CDD Board Meeting - Dec. 2023
LOCATION:Meadow Pointe IV Club House\, 3902 Meadow Pointe Blvd. Wesley Chap
 el \, FL 33543 United States
URL;VALUE=URI:https://www.meadowpointe4cdd.org/calendar/4565545/cdd-board-m
 eeting-dec-2023
DTSTART:20231213T150000Z
DTEND:20231213T160000Z
ATTACH;FILENAME=2023-12-13 - Meadow Pointe IV CDD - Final Agenda.pdf;FMTTYP
 E=application/pdf:https://campussuite-storage.s3.amazonaws.com/prod/155888
 4/08523f8c-ea9a-11e9-86cb-0a31933f87ea/2711346/ddf92872-95cb-11ee-9b00-029
 a6b49d847/file/2023-12-13 - Meadow Pointe IV CDD - Final Agenda.pdf
END:VEVENT
END:VCALENDAR
