BEGIN:VCALENDAR
VERSION:2.0
PRODID:SchoolNow
CALSCALE:GREGORIAN
BEGIN:VEVENT
UID:7bedf59a-3842-11ee-a6a5-0a58a9feac02
DTSTAMP:20240103T195054Z
SUMMARY:CDD Board Meeting - Jan. 2024
LOCATION:Meadow Pointe IV Club House\, 3902 Meadow Pointe Blvd. Wesley Chap
 el \, FL 33543 United States
URL;VALUE=URI:https://www.meadowpointe4cdd.org/calendar/4565546/cdd-board-m
 eeting-jan-2024
DTSTART:20240110T150000Z
DTEND:20240110T160000Z
ATTACH;FILENAME=2024-01-10 - Meadow Pointe IV CDD - Final Agenda.pdf;FMTTYP
 E=application/pdf:https://campussuite-storage.s3.amazonaws.com/prod/155888
 4/08523f8c-ea9a-11e9-86cb-0a31933f87ea/2720435/61ecbf7c-aa71-11ee-a2e9-0a5
 8a9feac02/file/2024-01-10 - Meadow Pointe IV CDD - Final Agenda.pdf
END:VEVENT
END:VCALENDAR
