BEGIN:VCALENDAR
VERSION:2.0
PRODID:SchoolNow
CALSCALE:GREGORIAN
BEGIN:VEVENT
UID:88512424-3842-11ee-a082-0a58a9feac02
DTSTAMP:20240212T143130Z
SUMMARY:CDD Board Meeting - Feb. 2024
LOCATION:Meadow Pointe IV Club House\, 3902 Meadow Pointe Blvd. Wesley Chap
 el \, FL 33543 United States
URL;VALUE=URI:https://www.meadowpointe4cdd.org/calendar/4565547/cdd-board-m
 eeting-feb-2024
DTSTART:20240214T140000Z
DTEND:20240214T150000Z
ATTACH;FILENAME=2024-02-14 - Meadow Pointe IV CDD - Final Agenda.pdf;FMTTYP
 E=application/pdf:https://campussuite-storage.s3.amazonaws.com/prod/155888
 4/08523f8c-ea9a-11e9-86cb-0a31933f87ea/2740160/636a0cb8-c9b3-11ee-82ed-0a5
 8a9feac02/file/2024-02-14 - Meadow Pointe IV CDD - Final Agenda.pdf
END:VEVENT
END:VCALENDAR
