BEGIN:VCALENDAR
VERSION:2.0
PRODID:SchoolNow
CALSCALE:GREGORIAN
BEGIN:VEVENT
UID:95f3e30a-3842-11ee-ac48-0e081452f3d9
DTSTAMP:20240305T212314Z
SUMMARY:CDD Board Meeting - Mar. 2024
LOCATION:Meadow Pointe IV Club House\, 3902 Meadow Pointe Blvd. Wesley Chap
 el \, FL 33543 United States
URL;VALUE=URI:https://www.meadowpointe4cdd.org/calendar/4565548/cdd-board-m
 eeting-mar-2024
DTSTART:20240313T130000Z
DTEND:20240313T140000Z
ATTACH;FILENAME=2024-03-13 - Meadow Pointe IV CDD - Final Agenda.pdf;FMTTYP
 E=application/pdf:https://campussuite-storage.s3.amazonaws.com/prod/155888
 4/08523f8c-ea9a-11e9-86cb-0a31933f87ea/2752857/8f0e57d6-db36-11ee-830e-028
 d26b25385/file/2024-03-13 - Meadow Pointe IV CDD - Final Agenda.pdf
END:VEVENT
END:VCALENDAR
