BEGIN:VCALENDAR
VERSION:2.0
PRODID:SchoolNow
CALSCALE:GREGORIAN
BEGIN:VEVENT
UID:9fe12404-3842-11ee-80b2-0a58a9feac02
DTSTAMP:20240416T160321Z
SUMMARY:CDD Board Meeting - Apr. 2024
LOCATION:Meadow Pointe IV Club House\, 3902 Meadow Pointe Blvd. Wesley Chap
 el \, FL 33543 United States
URL;VALUE=URI:https://www.meadowpointe4cdd.org/calendar/4565549/cdd-board-m
 eeting-apr-2024
DTSTART:20240410T130000Z
DTEND:20240410T140000Z
ATTACH;FILENAME=2024-04-10 - Meadow Pointe IV CDD - Final Agenda.pdf;FMTTYP
 E=application/pdf:https://campussuite-storage.s3.amazonaws.com/prod/155888
 4/08523f8c-ea9a-11e9-86cb-0a31933f87ea/2771758/8aa9cf00-fc0a-11ee-9ef6-025
 e802b6edf/file/2024-04-10 - Meadow Pointe IV CDD - Final Agenda.pdf
END:VEVENT
END:VCALENDAR
