BEGIN:VCALENDAR
VERSION:2.0
PRODID:SchoolNow
CALSCALE:GREGORIAN
BEGIN:VEVENT
UID:b724178e-3842-11ee-9c76-0a58a9feac02
DTSTAMP:20240822T161151Z
SUMMARY:CDD Board Meeting - Jun. 2024
LOCATION:Meadow Pointe IV Club House\, 3902 Meadow Pointe Blvd. Wesley Chap
 el \, FL 33543 United States
URL;VALUE=URI:https://www.meadowpointe4cdd.org/calendar/4565551/cdd-board-m
 eeting-jun-2024
DTSTART:20240612T210000Z
DTEND:20240612T220000Z
ATTACH;FILENAME=2024-06-05 - Meadow Pointe IV CDD - Final Agenda (1).pdf;FM
 TTYPE=application/pdf:https://campussuite-storage.s3.amazonaws.com/prod/15
 58884/08523f8c-ea9a-11e9-86cb-0a31933f87ea/2802212/3125d32c-2403-11ef-8f1e
 -0a58a9feac02/file/2024-06-05 - Meadow Pointe IV CDD - Final Agenda (1).pd
 f
END:VEVENT
END:VCALENDAR
