BEGIN:VCALENDAR
VERSION:2.0
PRODID:SchoolNow
CALSCALE:GREGORIAN
BEGIN:VEVENT
UID:c0d5df2e-3842-11ee-8243-0a58a9feac02
DTSTAMP:20240822T161212Z
SUMMARY:CDD Board Meeting - Jul. 2024
LOCATION:Meadow Pointe IV Club House\, 3902 Meadow Pointe Blvd. Wesley Chap
 el \, FL 33543 United States
URL;VALUE=URI:https://www.meadowpointe4cdd.org/calendar/4565552/cdd-board-m
 eeting-jul-2024
DTSTART:20240710T210000Z
DTEND:20240710T220000Z
ATTACH;FILENAME=2024-07-10 - Meadow Pointe IV CDD - Final Agenda.pdf;FMTTYP
 E=application/pdf:https://campussuite-storage.s3.amazonaws.com/prod/155888
 4/08523f8c-ea9a-11e9-86cb-0a31933f87ea/2826200/8f0d417c-541f-11ef-a16b-028
 2661e4d69/file/2024-07-10 - Meadow Pointe IV CDD - Final Agenda.pdf
END:VEVENT
END:VCALENDAR
