BEGIN:VCALENDAR
VERSION:2.0
PRODID:SchoolNow
CALSCALE:GREGORIAN
BEGIN:VEVENT
UID:d831b814-3842-11ee-9986-0a58a9feac02
DTSTAMP:20240906T201345Z
SUMMARY:CDD Board Meeting - Sept. 2024
LOCATION:Meadow Pointe IV Club House\, 3902 Meadow Pointe Blvd. Wesley Chap
 el \, FL 33543 United States
URL;VALUE=URI:https://www.meadowpointe4cdd.org/calendar/4565554/cdd-board-m
 eeting-sept-2024
DTSTART:20240911T210000Z
DTEND:20240911T220000Z
ATTACH;FILENAME=2024-09-11 - Meadow Pointe IV CDD - Final Agenda - Revised.
 pdf;FMTTYPE=application/pdf:https://campussuite-storage.s3.amazonaws.com/p
 rod/1558884/08523f8c-ea9a-11e9-86cb-0a31933f87ea/2843456/7f60aa68-6c8c-11e
 f-9c2d-0a58a9feac02/file/2024-09-11 - Meadow Pointe IV CDD - Final Agenda 
 - Revised.pdf
END:VEVENT
END:VCALENDAR
