BEGIN:VCALENDAR
VERSION:2.0
PRODID:SchoolNow
CALSCALE:GREGORIAN
BEGIN:VEVENT
UID:c6ce907c-e546-11ee-9002-0a58a9feac02
DTSTAMP:20240416T160117Z
SUMMARY:CDD Budget Workshop - Apr. 2024
LOCATION:Meadow Pointe IV Club House\, 3902 Meadow Pointe Blvd. Wesley Chap
 el \, FL 33543 United States
URL;VALUE=URI:https://www.meadowpointe4cdd.org/calendar/5574316/cdd-budget-
 workshop-apr-2024
DTSTART:20240423T130000Z
DTEND:20240423T140000Z
ATTACH;FILENAME=2024-04-23 - Meadow Pointe IV CDD - Budget Workshop Final A
 genda.pdf;FMTTYPE=application/pdf:https://campussuite-storage.s3.amazonaws
 .com/prod/1558884/08523f8c-ea9a-11e9-86cb-0a31933f87ea/2771757/8aa9c096-fc
 0a-11ee-9ce2-025e802b6edf/file/2024-04-23 - Meadow Pointe IV CDD - Budget 
 Workshop Final Agenda.pdf
END:VEVENT
END:VCALENDAR
