BEGIN:VCALENDAR
VERSION:2.0
PRODID:SchoolNow
CALSCALE:GREGORIAN
BEGIN:VEVENT
UID:5a485bd8-5f29-11ef-8546-02dd757ef76b
DTSTAMP:20241009T131935Z
SUMMARY:CDD Board Meeting - Oct. 2024 - Cancelled
LOCATION:Meadow Pointe IV Club House\, 3902 Meadow Pointe Blvd. Wesley Chap
 el \, FL 33543 United States
URL;VALUE=URI:https://www.meadowpointe4cdd.org/calendar/6433006/cdd-board-m
 eeting-oct-2024
DTSTART:20241009T210000Z
DTEND:20241009T220000Z
ATTACH;FILENAME=2024-10-09 - Meadow Pointe IV CDD - Final Agenda.pdf;FMTTYP
 E=application/pdf:https://campussuite-storage.s3.amazonaws.com/prod/155888
 4/08523f8c-ea9a-11e9-86cb-0a31933f87ea/2856988/78145490-80fe-11ef-8f8f-0af
 fce8876bb/file/2024-10-09 - Meadow Pointe IV CDD - Final Agenda.pdf
END:VEVENT
END:VCALENDAR
