BEGIN:VCALENDAR
VERSION:2.0
PRODID:SchoolNow
CALSCALE:GREGORIAN
BEGIN:VEVENT
UID:629fe7b0-5f29-11ef-b355-0a58a9feac02
DTSTAMP:20241111T130723Z
SUMMARY:CDD Board Meeting - Nov. 2024
LOCATION:Meadow Pointe IV Club House\, 3902 Meadow Pointe Blvd. Wesley Chap
 el \, FL 33543 United States
URL;VALUE=URI:https://www.meadowpointe4cdd.org/calendar/6433007/cdd-board-m
 eeting-nov-2024
DTSTART:20241113T220000Z
DTEND:20241113T230000Z
ATTACH;FILENAME=2024-11-13 - Meadow Pointe IV CDD - Final Agenda (1).pdf;FM
 TTYPE=application/pdf:https://campussuite-storage.s3.amazonaws.com/prod/15
 58884/08523f8c-ea9a-11e9-86cb-0a31933f87ea/2877810/dec1b8c4-a02d-11ef-a498
 -0a58a9feac02/file/2024-11-13 - Meadow Pointe IV CDD - Final Agenda (1).pd
 f
END:VEVENT
END:VCALENDAR
