BEGIN:VCALENDAR
VERSION:2.0
PRODID:SchoolNow
CALSCALE:GREGORIAN
BEGIN:VEVENT
UID:6b6e84f0-5f29-11ef-a42e-02186fdfdaa3
DTSTAMP:20241209T204150Z
SUMMARY:CDD Board Meeting - Dec. 2024
LOCATION:Meadow Pointe IV Club House\, 3902 Meadow Pointe Blvd. Wesley Chap
 el \, FL 33543 United States
URL;VALUE=URI:https://www.meadowpointe4cdd.org/calendar/6433008/cdd-board-m
 eeting-dec-2024
DTSTART:20241211T140000Z
DTEND:20241211T150000Z
ATTACH;FILENAME=2024-12-11 - Meadow Pointe IV CDD - REVISED Final Agenda.pd
 f;FMTTYPE=application/pdf:https://campussuite-storage.s3.amazonaws.com/pro
 d/1558884/08523f8c-ea9a-11e9-86cb-0a31933f87ea/2888955/ff4cc6fa-b66d-11ef-
 87a2-0a58a9feac02/file/2024-12-11 - Meadow Pointe IV CDD - REVISED Final A
 genda.pdf
END:VEVENT
END:VCALENDAR
