BEGIN:VCALENDAR
VERSION:2.0
PRODID:SchoolNow
CALSCALE:GREGORIAN
BEGIN:VEVENT
UID:7913287c-5f29-11ef-bceb-02dd757ef76b
DTSTAMP:20250108T201445Z
SUMMARY:CDD Board Meeting - Jan. 2025
LOCATION:Meadow Pointe IV Club House\, 3902 Meadow Pointe Blvd. Wesley Chap
 el \, FL 33543 United States
URL;VALUE=URI:https://www.meadowpointe4cdd.org/calendar/6433009/cdd-board-m
 eeting-jan-2025
DTSTART:20250108T220000Z
DTEND:20250108T230000Z
ATTACH;FILENAME=2025-01-08 - Meadow Pointe IV CDD - Revised Final Agenda.pd
 f;FMTTYPE=application/pdf:https://campussuite-storage.s3.amazonaws.com/pro
 d/1558884/08523f8c-ea9a-11e9-86cb-0a31933f87ea/2900281/2eafb49c-cdfd-11ef-
 a5a6-0e175e100115/file/2025-01-08 - Meadow Pointe IV CDD - Revised Final A
 genda.pdf
END:VEVENT
END:VCALENDAR
