BEGIN:VCALENDAR
VERSION:2.0
PRODID:SchoolNow
CALSCALE:GREGORIAN
BEGIN:VEVENT
UID:856fd49e-5f29-11ef-9669-0a58a9feac02
DTSTAMP:20250211T164321Z
SUMMARY:CDD Board Meeting - Feb. 2025
LOCATION:Meadow Pointe IV Club House\, 3902 Meadow Pointe Blvd. Wesley Chap
 el \, FL 33543 United States
URL;VALUE=URI:https://www.meadowpointe4cdd.org/calendar/6433010/cdd-board-m
 eeting-feb-2025
DTSTART:20250212T140000Z
DTEND:20250212T150000Z
ATTACH;FILENAME=2025-02-12 - Meadow Pointe IV CDD - Revised Final Agenda.pd
 f;FMTTYPE=application/pdf:https://campussuite-storage.s3.amazonaws.com/pro
 d/1558884/08523f8c-ea9a-11e9-86cb-0a31933f87ea/2913959/29ca1c6a-e897-11ef-
 9cee-0a58a9feac02/file/2025-02-12 - Meadow Pointe IV CDD - Revised Final A
 genda.pdf
END:VEVENT
END:VCALENDAR
