BEGIN:VCALENDAR
VERSION:2.0
PRODID:SchoolNow
CALSCALE:GREGORIAN
BEGIN:VEVENT
UID:8e324e9a-5f29-11ef-b498-0a58a9feac02
DTSTAMP:20250311T181324Z
SUMMARY:CDD Board Meeting - Mar. 2025
LOCATION:Meadow Pointe IV Club House\, 3902 Meadow Pointe Blvd. Wesley Chap
 el \, FL 33543 United States
URL;VALUE=URI:https://www.meadowpointe4cdd.org/calendar/6433011/cdd-board-m
 eeting-mar-2025
DTSTART:20250312T130000Z
DTEND:20250312T140000Z
ATTACH;FILENAME=2025-03-12 - Meadow Pointe IV CDD - REVISED Final Agenda.pd
 f;FMTTYPE=application/pdf:https://campussuite-storage.s3.amazonaws.com/pro
 d/1558884/08523f8c-ea9a-11e9-86cb-0a31933f87ea/2925572/7fd0a43a-fea4-11ef-
 baa8-0e081f62c321/file/2025-03-12 - Meadow Pointe IV CDD - REVISED Final A
 genda.pdf
END:VEVENT
END:VCALENDAR
