BEGIN:VCALENDAR
VERSION:2.0
PRODID:SchoolNow
CALSCALE:GREGORIAN
BEGIN:VEVENT
UID:a096fef0-5f29-11ef-bd45-0affdcce4a41
DTSTAMP:20250507T204443Z
SUMMARY:CDD Board Meeting - May 2025
LOCATION:Meadow Pointe IV Club House\, 3902 Meadow Pointe Blvd. Wesley Chap
 el \, FL 33543 United States
URL;VALUE=URI:https://www.meadowpointe4cdd.org/calendar/6433013/cdd-board-m
 eeting-may-2025
DTSTART:20250514T210000Z
DTEND:20250514T220000Z
ATTACH;FILENAME=2025-05-14 - Meadow Pointe IV CDD - Final Agenda.pdf;FMTTYP
 E=application/pdf:https://campussuite-storage.s3.amazonaws.com/prod/155888
 4/08523f8c-ea9a-11e9-86cb-0a31933f87ea/2950651/16fa4a80-2b84-11f0-88a7-0ec
 bdfc35919/file/2025-05-14 - Meadow Pointe IV CDD - Final Agenda.pdf
END:VEVENT
END:VCALENDAR
