BEGIN:VCALENDAR
VERSION:2.0
PRODID:SchoolNow
CALSCALE:GREGORIAN
BEGIN:VEVENT
UID:aaccde6c-5f29-11ef-912f-0a58a9feac02
DTSTAMP:20250604T210017Z
SUMMARY:CDD Board Meeting - Jun. 2025
LOCATION:Meadow Pointe IV Club House\, 3902 Meadow Pointe Blvd. Wesley Chap
 el \, FL 33543 United States
URL;VALUE=URI:https://www.meadowpointe4cdd.org/calendar/6433014/cdd-board-m
 eeting-jun-2025
DTSTART:20250611T130000Z
DTEND:20250611T140000Z
ATTACH;FILENAME=2025-06-11 - Meadow Pointe IV CDD - Final Agenda.pdf;FMTTYP
 E=application/pdf:https://campussuite-storage.s3.amazonaws.com/prod/155888
 4/08523f8c-ea9a-11e9-86cb-0a31933f87ea/2964651/e6e9b3bc-4186-11f0-8114-0a5
 8a9feac02/file/2025-06-11 - Meadow Pointe IV CDD - Final Agenda.pdf
END:VEVENT
END:VCALENDAR
