BEGIN:VCALENDAR
VERSION:2.0
PRODID:SchoolNow
CALSCALE:GREGORIAN
BEGIN:VEVENT
UID:b4021cfe-5f29-11ef-8999-0affcff73f5b
DTSTAMP:20250702T195339Z
SUMMARY:CDD Board Meeting - Jul. 2025
LOCATION:Meadow Pointe IV Club House\, 3902 Meadow Pointe Blvd. Wesley Chap
 el \, FL 33543 United States
URL;VALUE=URI:https://www.meadowpointe4cdd.org/calendar/6433015/cdd-board-m
 eeting-jul-2025
DTSTART:20250709T130000Z
DTEND:20250709T140000Z
ATTACH;FILENAME=2025-07-09 - Meadow Pointe IV CDD - Final Agenda.pdf;FMTTYP
 E=application/pdf:https://campussuite-storage.s3.amazonaws.com/prod/155888
 4/08523f8c-ea9a-11e9-86cb-0a31933f87ea/2977988/39a5d416-577e-11f0-8e9c-027
 3f81fc779/file/2025-07-09 - Meadow Pointe IV CDD - Final Agenda.pdf
END:VEVENT
END:VCALENDAR
