BEGIN:VCALENDAR
VERSION:2.0
PRODID:SchoolNow
CALSCALE:GREGORIAN
BEGIN:VEVENT
UID:bd134d36-5f29-11ef-b22f-0affdb8db763
DTSTAMP:20250806T134207Z
SUMMARY:CDD Board Meeting - Aug. 2025
LOCATION:Meadow Pointe IV Club House\, 3902 Meadow Pointe Blvd. Wesley Chap
 el \, FL 33543 United States
URL;VALUE=URI:https://www.meadowpointe4cdd.org/calendar/6433016/cdd-board-m
 eeting-aug-2025
DTSTART:20250813T210000Z
DTEND:20250813T220000Z
ATTACH;FILENAME=2025-08-13 - Meadow Pointe IV CDD - Final Agenda.pdf;FMTTYP
 E=application/pdf:https://campussuite-storage.s3.amazonaws.com/prod/155888
 4/08523f8c-ea9a-11e9-86cb-0a31933f87ea/2989219/20d15b1e-72cb-11f0-9dcd-02a
 ca8e1564d/file/2025-08-13 - Meadow Pointe IV CDD - Final Agenda.pdf
END:VEVENT
END:VCALENDAR
