BEGIN:VCALENDAR
VERSION:2.0
PRODID:SchoolNow
CALSCALE:GREGORIAN
BEGIN:VEVENT
UID:c7c93eac-5f29-11ef-b582-0affcff73f5b
DTSTAMP:20250903T202133Z
SUMMARY:CDD Board Meeting - Sept. 2025
LOCATION:Meadow Pointe IV Club House\, 3902 Meadow Pointe Blvd. Wesley Chap
 el \, FL 33543 United States
URL;VALUE=URI:https://www.meadowpointe4cdd.org/calendar/6433017/cdd-board-m
 eeting-sept-2025
DTSTART:20250910T130000Z
DTEND:20250910T140000Z
ATTACH;FILENAME=2025-09-10 - Meadow Pointe IV CDD - Final Agenda.pdf;FMTTYP
 E=application/pdf:https://campussuite-storage.s3.amazonaws.com/prod/155888
 4/08523f8c-ea9a-11e9-86cb-0a31933f87ea/3002945/90adb402-8903-11f0-8a74-0a5
 8a9feac02/file/2025-09-10 - Meadow Pointe IV CDD - Final Agenda.pdf
END:VEVENT
END:VCALENDAR
