BEGIN:VCALENDAR
VERSION:2.0
PRODID:SchoolNow
CALSCALE:GREGORIAN
BEGIN:VEVENT
UID:3523bd62-ee16-11ef-892b-0a58a9feac02
DTSTAMP:20250327T130549Z
SUMMARY:CDD Budget Workshop - Mar. 2025
LOCATION:Meadow Pointe IV Club House\, 3902 Meadow Pointe Blvd. Wesley Chap
 el \, FL 33543 United States
URL;VALUE=URI:https://www.meadowpointe4cdd.org/calendar/7493953/cdd-budget-
 workshop-mar-2025
DTSTART:20250310T130000Z
DTEND:20250310T140000Z
END:VEVENT
END:VCALENDAR
