BEGIN:VCALENDAR
VERSION:2.0
PRODID:SchoolNow
CALSCALE:GREGORIAN
BEGIN:VEVENT
UID:e8a4433e-30e7-11f0-8960-0a58a9feac02
DTSTAMP:20250514T172156Z
SUMMARY:CDD Budget Workshop - Jun. 2025
LOCATION:Meadow Pointe IV Club House\, 3902 Meadow Pointe Blvd. Wesley Chap
 el \, FL 33543 United States
URL;VALUE=URI:https://www.meadowpointe4cdd.org/calendar/8134133/cdd-budget-
 workshop-jun-2025
DTSTART:20250602T130000Z
DTEND:20250602T140000Z
END:VEVENT
END:VCALENDAR
