BEGIN:VCALENDAR
VERSION:2.0
PRODID:SchoolNow
CALSCALE:GREGORIAN
BEGIN:VEVENT
UID:b4573472-7c75-11f0-a7a3-0affe844e53d
DTSTAMP:20251001T200443Z
SUMMARY:CDD Board Meeting - Oct. 2025
LOCATION:Meadow Pointe IV Club House\, 3902 Meadow Pointe Blvd. Wesley Chap
 el \, FL 33543 United States
URL;VALUE=URI:https://www.meadowpointe4cdd.org/calendar/8519131/cdd-board-m
 eeting-oct-2025
DTSTART:20251008T130000Z
DTEND:20251008T140000Z
ATTACH;FILENAME=2025-10-08 Meadow Pointe IV CDD - Final Agenda.pdf;FMTTYPE=
 application/pdf:https://campussuite-storage.s3.amazonaws.com/prod/1558884/
 08523f8c-ea9a-11e9-86cb-0a31933f87ea/3015669/db90281a-9f01-11f0-8f1e-023d6
 7bb3955/file/2025-10-08 Meadow Pointe IV CDD - Final Agenda.pdf
END:VEVENT
END:VCALENDAR
