BEGIN:VCALENDAR
VERSION:2.0
PRODID:SchoolNow
CALSCALE:GREGORIAN
BEGIN:VEVENT
UID:bf0db67a-7c75-11f0-9cb6-0a58a9feac02
DTSTAMP:20250818T205923Z
SUMMARY:CDD Board Meeting - Nov. 2025
LOCATION:Meadow Pointe IV Club House\, 3902 Meadow Pointe Blvd. Wesley Chap
 el \, FL 33543 United States
URL;VALUE=URI:https://www.meadowpointe4cdd.org/calendar/8519132/cdd-board-m
 eeting-nov-2025
DTSTART:20251112T220000Z
DTEND:20251112T230000Z
END:VEVENT
END:VCALENDAR
