BEGIN:VCALENDAR
VERSION:2.0
PRODID:SchoolNow
CALSCALE:GREGORIAN
BEGIN:VEVENT
UID:cc7b1c76-7c75-11f0-bbcd-0affe844e53d
DTSTAMP:20251203T210802Z
SUMMARY:CDD Board Meeting - Dec. 2025
LOCATION:Meadow Pointe IV Club House\, 3902 Meadow Pointe Blvd. Wesley Chap
 el \, FL 33543 United States
URL;VALUE=URI:https://www.meadowpointe4cdd.org/calendar/8519133/cdd-board-m
 eeting-dec-2025
DTSTART:20251210T140000Z
DTEND:20251210T150000Z
ATTACH;FILENAME=2025-12-10 Meadow Pointe IV CDD - Final Agenda.pdf;FMTTYPE=
 application/pdf:https://campussuite-storage.s3.amazonaws.com/prod/1558884/
 08523f8c-ea9a-11e9-86cb-0a31933f87ea/3046984/12605192-d08c-11f0-a19a-02ac3
 39edba7/file/2025-12-10 Meadow Pointe IV CDD - Final Agenda.pdf
END:VEVENT
END:VCALENDAR
