BEGIN:VCALENDAR
VERSION:2.0
PRODID:SchoolNow
CALSCALE:GREGORIAN
BEGIN:VEVENT
UID:d67270da-7c75-11f0-b677-0a58a9feac02
DTSTAMP:20260108T193205Z
SUMMARY:CDD Board Meeting - Jan. 2026
LOCATION:Meadow Pointe IV Club House\, 3902 Meadow Pointe Blvd. Wesley Chap
 el \, FL 33543 United States
URL;VALUE=URI:https://www.meadowpointe4cdd.org/calendar/8519134/cdd-board-m
 eeting-jan-2026
DTSTART:20260114T220000Z
DTEND:20260114T230000Z
ATTACH;FILENAME=2026-01-14 Meadow Pointe IV CDD - Revised Final Agenda.pdf;
 FMTTYPE=application/pdf:https://campussuite-storage.s3.amazonaws.com/prod/
 1558884/08523f8c-ea9a-11e9-86cb-0a31933f87ea/3058497/b14a882e-ecc8-11f0-b9
 07-0edc1eaae475/file/2026-01-14 Meadow Pointe IV CDD - Revised Final Agend
 a.pdf
END:VEVENT
END:VCALENDAR
