BEGIN:VCALENDAR
VERSION:2.0
PRODID:SchoolNow
CALSCALE:GREGORIAN
BEGIN:VEVENT
UID:de4caa78-7c75-11f0-9976-0a58a9feac02
DTSTAMP:20260204T214148Z
SUMMARY:CDD Board Meeting - Feb. 2026
LOCATION:Meadow Pointe IV Club House\, 3902 Meadow Pointe Blvd. Wesley Chap
 el \, FL 33543 United States
URL;VALUE=URI:https://www.meadowpointe4cdd.org/calendar/8519135/cdd-board-m
 eeting-feb-2026
DTSTART:20260211T140000Z
DTEND:20260211T150000Z
ATTACH;FILENAME=2026-02-11 Meadow Pointe IV CDD - Final Agenda.pdf;FMTTYPE=
 application/pdf:https://campussuite-storage.s3.amazonaws.com/prod/1558884/
 08523f8c-ea9a-11e9-86cb-0a31933f87ea/3067523/4706b0a0-0212-11f1-baab-0a58a
 9feac02/file/2026-02-11 Meadow Pointe IV CDD - Final Agenda.pdf
END:VEVENT
END:VCALENDAR
