BEGIN:VCALENDAR
VERSION:2.0
PRODID:SchoolNow
CALSCALE:GREGORIAN
BEGIN:VEVENT
UID:e686bdf0-7c75-11f0-81fa-0e8b14fcf377
DTSTAMP:20260304T213709Z
SUMMARY:CDD Board Meeting - Mar. 2026
LOCATION:Meadow Pointe IV Club House\, 3902 Meadow Pointe Blvd. Wesley Chap
 el \, FL 33543 United States
URL;VALUE=URI:https://www.meadowpointe4cdd.org/calendar/8519136/cdd-board-m
 eeting-mar-2026
DTSTART:20260311T130000Z
DTEND:20260311T140000Z
ATTACH;FILENAME=2026-03-11 Meadow Pointe IV CDD - Final Agenda.pdf;FMTTYPE=
 application/pdf:https://campussuite-storage.s3.amazonaws.com/prod/1558884/
 08523f8c-ea9a-11e9-86cb-0a31933f87ea/3077027/459b9d82-1812-11f1-b8dd-026d0
 a3ab0e5/file/2026-03-11 Meadow Pointe IV CDD - Final Agenda.pdf
END:VEVENT
END:VCALENDAR
