BEGIN:VCALENDAR
VERSION:2.0
PRODID:SchoolNow
CALSCALE:GREGORIAN
BEGIN:VEVENT
UID:efb96256-7c75-11f0-a90d-029f65b6582b
DTSTAMP:20260401T164756Z
SUMMARY:CDD Board Meeting - Apr. 2026
LOCATION:Meadow Pointe IV Club House\, 3902 Meadow Pointe Blvd. Wesley Chap
 el \, FL 33543 United States
URL;VALUE=URI:https://www.meadowpointe4cdd.org/calendar/8519137/cdd-board-m
 eeting-apr-2026
DTSTART:20260408T130000Z
DTEND:20260408T140000Z
ATTACH;FILENAME=2026-04-08 Meadow Pointe IV CDD - Final Agenda.pdf;FMTTYPE=
 application/pdf:https://campussuite-storage.s3.amazonaws.com/prod/1558884/
 08523f8c-ea9a-11e9-86cb-0a31933f87ea/3085984/84656f50-2dea-11f1-b9f0-0a58a
 9feac02/file/2026-04-08 Meadow Pointe IV CDD - Final Agenda.pdf
END:VEVENT
END:VCALENDAR
