BEGIN:VCALENDAR
VERSION:2.0
PRODID:SchoolNow
CALSCALE:GREGORIAN
BEGIN:VEVENT
UID:fc6abcde-7c75-11f0-bba5-0a58a9feac02
DTSTAMP:20250818T205904Z
SUMMARY:CDD Board Meeting - May 2026
LOCATION:Meadow Pointe IV Club House\, 3902 Meadow Pointe Blvd. Wesley Chap
 el \, FL 33543 United States
URL;VALUE=URI:https://www.meadowpointe4cdd.org/calendar/8519138/cdd-board-m
 eeting-may-2026
DTSTART:20260513T210000Z
DTEND:20260513T220000Z
END:VEVENT
END:VCALENDAR
