BEGIN:VCALENDAR
VERSION:2.0
PRODID:SchoolNow
CALSCALE:GREGORIAN
BEGIN:VEVENT
UID:04b09724-7c76-11f0-a538-02b6ac64bda5
DTSTAMP:20250818T205757Z
SUMMARY:CDD Board Meeting - Jun. 2026
LOCATION:Meadow Pointe IV Club House\, 3902 Meadow Pointe Blvd. Wesley Chap
 el \, FL 33543 United States
URL;VALUE=URI:https://www.meadowpointe4cdd.org/calendar/8519139/cdd-board-m
 eeting-jun-2026
DTSTART:20260610T130000Z
DTEND:20260610T140000Z
END:VEVENT
END:VCALENDAR
