BEGIN:VCALENDAR
VERSION:2.0
PRODID:SchoolNow
CALSCALE:GREGORIAN
BEGIN:VEVENT
UID:0c6db4ba-7c76-11f0-ac49-0a58a9feac02
DTSTAMP:20250818T205810Z
SUMMARY:CDD Board Meeting - Jul. 2026
LOCATION:Meadow Pointe IV Club House\, 3902 Meadow Pointe Blvd. Wesley Chap
 el \, FL 33543 United States
URL;VALUE=URI:https://www.meadowpointe4cdd.org/calendar/8519140/cdd-board-m
 eeting-jul-2026
DTSTART:20260708T130000Z
DTEND:20260708T140000Z
END:VEVENT
END:VCALENDAR
