BEGIN:VCALENDAR
VERSION:2.0
PRODID:SchoolNow
CALSCALE:GREGORIAN
BEGIN:VEVENT
UID:15a7dfd8-7c76-11f0-8d8c-0afff983aa55
DTSTAMP:20250818T205854Z
SUMMARY:CDD Board Meeting - Aug. 2026
LOCATION:Meadow Pointe IV Club House\, 3902 Meadow Pointe Blvd. Wesley Chap
 el \, FL 33543 United States
URL;VALUE=URI:https://www.meadowpointe4cdd.org/calendar/8519141/cdd-board-m
 eeting-aug-2026
DTSTART:20260812T210000Z
DTEND:20260812T220000Z
END:VEVENT
END:VCALENDAR
