BEGIN:VCALENDAR
VERSION:2.0
PRODID:SchoolNow
CALSCALE:GREGORIAN
BEGIN:VEVENT
UID:1e97b37a-7c76-11f0-a1a6-0a58a9feac02
DTSTAMP:20250818T205840Z
SUMMARY:CDD Board Meeting - Sept. 2026
LOCATION:Meadow Pointe IV Club House\, 3902 Meadow Pointe Blvd. Wesley Chap
 el \, FL 33543 United States
URL;VALUE=URI:https://www.meadowpointe4cdd.org/calendar/8519142/cdd-board-m
 eeting-sept-2026
DTSTART:20260909T130000Z
DTEND:20260909T140000Z
END:VEVENT
END:VCALENDAR
