BEGIN:VCALENDAR
VERSION:2.0
PRODID:SchoolNow
CALSCALE:GREGORIAN
BEGIN:VEVENT
UID:84b54de0-2886-11f1-8523-024b1f994ab3
DTSTAMP:20260325T200924Z
SUMMARY:Budget Workshop - May 2026
LOCATION:Meadow Pointe IV Club House\, 3902 Meadow Pointe Blvd. Wesley Chap
 el \, FL 33543 United States
URL;VALUE=URI:https://www.meadowpointe4cdd.org/calendar/8945441/budget-work
 shop-may-2026
DTSTART:20260526T140000Z
DTEND:20260526T150000Z
END:VEVENT
END:VCALENDAR
